BEGIN:VCALENDAR
VERSION:2.0
PRODID:-//F5WC - ECPv4.6.18//NONSGML v1.0//EN
CALSCALE:GREGORIAN
METHOD:PUBLISH
X-WR-CALNAME:F5WC
X-ORIGINAL-URL:https://f5wc.com
X-WR-CALDESC:Events for F5WC
BEGIN:VEVENT
DTSTART;TZID=UTC+0:20180206T000000
DTEND;TZID=UTC+0:20180806T000000
DTSTAMP:20180625T042148
CREATED:20180403T085955Z
LAST-MODIFIED:20180406T153326Z
UID:66318-1517875200-1533513600@f5wc.com
SUMMARY:F5WC NIGERIA ZONE 5 SOUTH SOUTH REGIONAL QUALIFIERS
DESCRIPTION:
URL:https://f5wc.com/events/f5wc-nigeria-zone-5-south-south-regional-qualifiers/
LOCATION:Nigeria
GEO:9.081999;8.675277
END:VEVENT
BEGIN:VEVENT
DTSTART;VALUE=DATE:20180501
DTEND;VALUE=DATE:20180701
DTSTAMP:20180625T042148
CREATED:20180403T085934Z
LAST-MODIFIED:20180404T124503Z
UID:66234-1525132800-1530403199@f5wc.com
SUMMARY:F5WC Italy Qualifier
DESCRIPTION:
URL:https://f5wc.com/events/f5wc-italy-qualifier/
END:VEVENT
BEGIN:VEVENT
DTSTART;TZID=UTC+0:20180505T000000
DTEND;TZID=UTC+0:20181105T000000
DTSTAMP:20180625T042148
CREATED:20180403T085936Z
LAST-MODIFIED:20180403T085936Z
UID:66240-1525478400-1541376000@f5wc.com
SUMMARY:F5WC NIGERIA ZONE 1 NORTH CENTRAL REGIONAL QUALIFIERS
DESCRIPTION:
URL:https://f5wc.com/events/f5wc-nigeria-zone-1-north-central-regional-qualifiers/
END:VEVENT
BEGIN:VEVENT
DTSTART;TZID=UTC+0:20180513T180000
DTEND;TZID=UTC+0:20660814T000000
DTSTAMP:20180625T042148
CREATED:20180403T085943Z
LAST-MODIFIED:20180404T112007Z
UID:66270-1526234400-3048969600@f5wc.com
SUMMARY:F5WC England Qualifier - Chester
DESCRIPTION:
URL:https://f5wc.com/events/f5wc-england-qualifier-chester/
LOCATION:United Kingdom
END:VEVENT
BEGIN:VEVENT
DTSTART;VALUE=DATE:20180607
DTEND;VALUE=DATE:20180808
DTSTAMP:20180625T042148
CREATED:20180510T155233Z
LAST-MODIFIED:20180510T155233Z
UID:68377-1528329600-1533686399@f5wc.com
SUMMARY:F5WC ROMANIA FINAL
DESCRIPTION:
URL:https://f5wc.com/events/f5wc-romania-final-3/
LOCATION:TARGOVISTE\, Romania
GEO:44.9118218;25.4558274
END:VEVENT
BEGIN:VEVENT
DTSTART;VALUE=DATE:20180607
DTEND;VALUE=DATE:20180808
DTSTAMP:20180625T042148
CREATED:20180510T155233Z
LAST-MODIFIED:20180510T155233Z
UID:67123-1528329600-1533686399@f5wc.com
SUMMARY:F5WC ROMANIA FINAL
DESCRIPTION:
URL:https://f5wc.com/events/f5wc-romania-final/
LOCATION:TARGOVISTE\, Romania
GEO:44.9118218;25.4558274
END:VEVENT
BEGIN:VEVENT
DTSTART;VALUE=DATE:20180607
DTEND;VALUE=DATE:20180808
DTSTAMP:20180625T042148
CREATED:20180510T155233Z
LAST-MODIFIED:20180510T155233Z
UID:67950-1528329600-1533686399@f5wc.com
SUMMARY:F5WC ROMANIA FINAL
DESCRIPTION:
URL:https://f5wc.com/events/f5wc-romania-final-2/
LOCATION:TARGOVISTE\, Romania
GEO:44.9118218;25.4558274
END:VEVENT
BEGIN:VEVENT
DTSTART;VALUE=DATE:20180609
DTEND;VALUE=DATE:20180907
DTSTAMP:20180625T042148
CREATED:20180403T085957Z
LAST-MODIFIED:20180404T125854Z
UID:66327-1528502400-1536278399@f5wc.com
SUMMARY:F5WC USA Qualifier - Washington
DESCRIPTION:
URL:https://f5wc.com/events/f5wc-usa-qualifier-washington/
LOCATION:WA\, United States
END:VEVENT
BEGIN:VEVENT
DTSTART;VALUE=DATE:20180609
DTEND;VALUE=DATE:20180907
DTSTAMP:20180625T042148
CREATED:20180403T085957Z
LAST-MODIFIED:20180403T085957Z
UID:67908-1528502400-1536278399@f5wc.com
SUMMARY:F5WC USA Qualifier - Washington
DESCRIPTION:
URL:https://f5wc.com/events/f5wc-usa-qualifier-washington-3/
LOCATION:WA\, United States
END:VEVENT
BEGIN:VEVENT
DTSTART;VALUE=DATE:20180609
DTEND;VALUE=DATE:20180907
DTSTAMP:20180625T042148
CREATED:20180403T085957Z
LAST-MODIFIED:20180403T085957Z
UID:67657-1528502400-1536278399@f5wc.com
SUMMARY:F5WC USA Qualifier - Washington
DESCRIPTION:
URL:https://f5wc.com/events/f5wc-usa-qualifier-washington-2/
LOCATION:WA\, United States
END:VEVENT
BEGIN:VEVENT
DTSTART;VALUE=DATE:20180609
DTEND;VALUE=DATE:20180907
DTSTAMP:20180625T042148
CREATED:20180403T085957Z
LAST-MODIFIED:20180403T085957Z
UID:68335-1528502400-1536278399@f5wc.com
SUMMARY:F5WC USA Qualifier - Washington
DESCRIPTION:
URL:https://f5wc.com/events/f5wc-usa-qualifier-washington-4/
LOCATION:WA\, United States
END:VEVENT
BEGIN:VEVENT
DTSTART;VALUE=DATE:20180617
DTEND;VALUE=DATE:20180701
DTSTAMP:20180625T042148
CREATED:20180403T085959Z
LAST-MODIFIED:20180404T130503Z
UID:66336-1529193600-1530403199@f5wc.com
SUMMARY:F5WC Lebanon Qualifiers
DESCRIPTION:
URL:https://f5wc.com/events/f5wc-lebanon-qualifiers/
LOCATION:Lebanon
GEO:33.854721;35.862285
END:VEVENT
BEGIN:VEVENT
DTSTART;VALUE=DATE:20180617
DTEND;VALUE=DATE:20180701
DTSTAMP:20180625T042148
CREATED:20180403T085959Z
LAST-MODIFIED:20180403T085959Z
UID:67916-1529193600-1530403199@f5wc.com
SUMMARY:F5WC Lebanon Qualifiers
DESCRIPTION:
URL:https://f5wc.com/events/f5wc-lebanon-qualifiers-3/
LOCATION:Lebanon
GEO:33.854721;35.862285
END:VEVENT
BEGIN:VEVENT
DTSTART;VALUE=DATE:20180617
DTEND;VALUE=DATE:20180701
DTSTAMP:20180625T042148
CREATED:20180403T085959Z
LAST-MODIFIED:20180403T085959Z
UID:67665-1529193600-1530403199@f5wc.com
SUMMARY:F5WC Lebanon Qualifiers
DESCRIPTION:
URL:https://f5wc.com/events/f5wc-lebanon-qualifiers-2/
LOCATION:Lebanon
GEO:33.854721;35.862285
END:VEVENT
BEGIN:VEVENT
DTSTART;VALUE=DATE:20180617
DTEND;VALUE=DATE:20180701
DTSTAMP:20180625T042148
CREATED:20180403T085959Z
LAST-MODIFIED:20180403T085959Z
UID:68343-1529193600-1530403199@f5wc.com
SUMMARY:F5WC Lebanon Qualifiers
DESCRIPTION:
URL:https://f5wc.com/events/f5wc-lebanon-qualifiers-4/
LOCATION:Lebanon
GEO:33.854721;35.862285
END:VEVENT
BEGIN:VEVENT
DTSTART;VALUE=DATE:20180623
DTEND;VALUE=DATE:20180701
DTSTAMP:20180625T042148
CREATED:20180510T165439Z
LAST-MODIFIED:20180510T165439Z
UID:68428-1529712000-1530403199@f5wc.com
SUMMARY:F5WC CANADA Qualifier - Toronto
DESCRIPTION:
URL:https://f5wc.com/events/f5wc-canada-qualifier-toronto-3-3/
LOCATION:Canada
END:VEVENT
BEGIN:VEVENT
DTSTART;VALUE=DATE:20180623
DTEND;VALUE=DATE:20180701
DTSTAMP:20180625T042148
CREATED:20180510T165439Z
LAST-MODIFIED:20180510T165439Z
UID:68429-1529712000-1530403199@f5wc.com
SUMMARY:F5WC CANADA Qualifier - Hamilton
DESCRIPTION:
URL:https://f5wc.com/events/f5wc-canada-qualifier-hamilton-2-3/
LOCATION:Hamilton\, Canda
END:VEVENT
BEGIN:VEVENT
DTSTART;VALUE=DATE:20180623
DTEND;VALUE=DATE:20180701
DTSTAMP:20180625T042148
CREATED:20180510T165439Z
LAST-MODIFIED:20180510T165439Z
UID:67232-1529712000-1530403199@f5wc.com
SUMMARY:F5WC CANADA Qualifier - Toronto
DESCRIPTION:
URL:https://f5wc.com/events/f5wc-canada-qualifier-toronto-3/
LOCATION:Canada
END:VEVENT
BEGIN:VEVENT
DTSTART;VALUE=DATE:20180623
DTEND;VALUE=DATE:20180701
DTSTAMP:20180625T042148
CREATED:20180510T165439Z
LAST-MODIFIED:20180510T165439Z
UID:67233-1529712000-1530403199@f5wc.com
SUMMARY:F5WC CANADA Qualifier - Hamilton
DESCRIPTION:
URL:https://f5wc.com/events/f5wc-canada-qualifier-hamilton-2/
LOCATION:Hamilton\, Canda
END:VEVENT
BEGIN:VEVENT
DTSTART;VALUE=DATE:20180623
DTEND;VALUE=DATE:20180701
DTSTAMP:20180625T042148
CREATED:20180510T165439Z
LAST-MODIFIED:20180510T165439Z
UID:68001-1529712000-1530403199@f5wc.com
SUMMARY:F5WC CANADA Qualifier - Toronto
DESCRIPTION:
URL:https://f5wc.com/events/f5wc-canada-qualifier-toronto-3-2/
LOCATION:Canada
END:VEVENT
BEGIN:VEVENT
DTSTART;VALUE=DATE:20180623
DTEND;VALUE=DATE:20180701
DTSTAMP:20180625T042148
CREATED:20180510T165439Z
LAST-MODIFIED:20180510T165439Z
UID:68002-1529712000-1530403199@f5wc.com
SUMMARY:F5WC CANADA Qualifier - Hamilton
DESCRIPTION:
URL:https://f5wc.com/events/f5wc-canada-qualifier-hamilton-2-2/
LOCATION:Hamilton\, Canda
END:VEVENT
BEGIN:VEVENT
DTSTART;VALUE=DATE:20180627
DTEND;VALUE=DATE:20180628
DTSTAMP:20180625T042148
CREATED:20180403T090001Z
LAST-MODIFIED:20180404T130851Z
UID:66341-1530057600-1530143999@f5wc.com
SUMMARY:F5WC Israel Qualifier - Rosh Haayen
DESCRIPTION:
URL:https://f5wc.com/events/f5wc-israel-qualifier-rosh-haayen/
LOCATION:Israel
END:VEVENT
BEGIN:VEVENT
DTSTART;VALUE=DATE:20180629
DTEND;VALUE=DATE:20180630
DTSTAMP:20180625T042148
CREATED:20180403T090004Z
LAST-MODIFIED:20180403T090004Z
UID:68358-1530230400-1530316799@f5wc.com
SUMMARY:F5WC URUGUAY National Finals
DESCRIPTION:
URL:https://f5wc.com/events/f5wc-uruguay-national-finals-2-4/
LOCATION:Montevideo\, Uruguay
END:VEVENT
BEGIN:VEVENT
DTSTART;VALUE=DATE:20180629
DTEND;VALUE=DATE:20180702
DTSTAMP:20180625T042148
CREATED:20180403T090001Z
LAST-MODIFIED:20180404T131017Z
UID:66343-1530230400-1530489599@f5wc.com
SUMMARY:F5WC Botswana National  Finals
DESCRIPTION:
URL:https://f5wc.com/events/f5wc-botswana-national-finals/
LOCATION:Botswana
GEO:-22.328474;24.684866
END:VEVENT
BEGIN:VEVENT
DTSTART;VALUE=DATE:20180629
DTEND;VALUE=DATE:20180630
DTSTAMP:20180625T042148
CREATED:20180403T090004Z
LAST-MODIFIED:20180404T131226Z
UID:66354-1530230400-1530316799@f5wc.com
SUMMARY:F5WC URUGUAY National Finals
DESCRIPTION:
URL:https://f5wc.com/events/f5wc-uruguay-national-finals-2/
LOCATION:Montevideo\, Uruguay
END:VEVENT
BEGIN:VEVENT
DTSTART;VALUE=DATE:20180629
DTEND;VALUE=DATE:20180702
DTSTAMP:20180625T042148
CREATED:20180403T090001Z
LAST-MODIFIED:20180403T090001Z
UID:67922-1530230400-1530489599@f5wc.com
SUMMARY:F5WC Botswana National  Finals
DESCRIPTION:
URL:https://f5wc.com/events/f5wc-botswana-national-finals-3/
LOCATION:Botswana
GEO:-22.328474;24.684866
END:VEVENT
BEGIN:VEVENT
DTSTART;VALUE=DATE:20180629
DTEND;VALUE=DATE:20180702
DTSTAMP:20180625T042148
CREATED:20180403T090001Z
LAST-MODIFIED:20180403T090001Z
UID:67671-1530230400-1530489599@f5wc.com
SUMMARY:F5WC Botswana National  Finals
DESCRIPTION:
URL:https://f5wc.com/events/f5wc-botswana-national-finals-2/
LOCATION:Botswana
GEO:-22.328474;24.684866
END:VEVENT
BEGIN:VEVENT
DTSTART;VALUE=DATE:20180629
DTEND;VALUE=DATE:20180630
DTSTAMP:20180625T042148
CREATED:20180403T090004Z
LAST-MODIFIED:20180403T090004Z
UID:67931-1530230400-1530316799@f5wc.com
SUMMARY:F5WC URUGUAY National Finals
DESCRIPTION:
URL:https://f5wc.com/events/f5wc-uruguay-national-finals-2-3/
LOCATION:Montevideo\, Uruguay
END:VEVENT
BEGIN:VEVENT
DTSTART;VALUE=DATE:20180629
DTEND;VALUE=DATE:20180630
DTSTAMP:20180625T042148
CREATED:20180403T090004Z
LAST-MODIFIED:20180403T090004Z
UID:67680-1530230400-1530316799@f5wc.com
SUMMARY:F5WC URUGUAY National Finals
DESCRIPTION:
URL:https://f5wc.com/events/f5wc-uruguay-national-finals-2-2/
LOCATION:Montevideo\, Uruguay
END:VEVENT
BEGIN:VEVENT
DTSTART;VALUE=DATE:20180629
DTEND;VALUE=DATE:20180702
DTSTAMP:20180625T042148
CREATED:20180403T090001Z
LAST-MODIFIED:20180403T090001Z
UID:68349-1530230400-1530489599@f5wc.com
SUMMARY:F5WC Botswana National  Finals
DESCRIPTION:
URL:https://f5wc.com/events/f5wc-botswana-national-finals-4/
LOCATION:Botswana
GEO:-22.328474;24.684866
END:VEVENT
END:VCALENDAR